BEGIN:VCALENDAR
VERSION:2.0
PRODID:-//NDC - ECPv6.15.20//NONSGML v1.0//EN
CALSCALE:GREGORIAN
METHOD:PUBLISH
X-WR-CALNAME:NDC
X-ORIGINAL-URL:https://www.ndc-mn.org
X-WR-CALDESC:Events for NDC
REFRESH-INTERVAL;VALUE=DURATION:PT1H
X-Robots-Tag:noindex
X-PUBLISHED-TTL:PT1H
BEGIN:VTIMEZONE
TZID:America/Chicago
BEGIN:DAYLIGHT
TZOFFSETFROM:-0600
TZOFFSETTO:-0500
TZNAME:CDT
DTSTART:20240310T080000
END:DAYLIGHT
BEGIN:STANDARD
TZOFFSETFROM:-0500
TZOFFSETTO:-0600
TZNAME:CST
DTSTART:20241103T070000
END:STANDARD
BEGIN:DAYLIGHT
TZOFFSETFROM:-0600
TZOFFSETTO:-0500
TZNAME:CDT
DTSTART:20250309T080000
END:DAYLIGHT
BEGIN:STANDARD
TZOFFSETFROM:-0500
TZOFFSETTO:-0600
TZNAME:CST
DTSTART:20251102T070000
END:STANDARD
BEGIN:DAYLIGHT
TZOFFSETFROM:-0600
TZOFFSETTO:-0500
TZNAME:CDT
DTSTART:20260308T080000
END:DAYLIGHT
BEGIN:STANDARD
TZOFFSETFROM:-0500
TZOFFSETTO:-0600
TZNAME:CST
DTSTART:20261101T070000
END:STANDARD
END:VTIMEZONE
BEGIN:VEVENT
DTSTART;TZID=America/Chicago:20251204T130000
DTEND;TZID=America/Chicago:20251204T140000
DTSTAMP:20260420T042824
CREATED:20250127T213711Z
LAST-MODIFIED:20250527T180813Z
UID:2835-1764853200-1764856800@www.ndc-mn.org
SUMMARY:Loan Information Session
DESCRIPTION:[vc_row css_animation=”” row_type=”row” use_row_as_full_screen_section=”no” type=”full_width” angled_section=”no” text_align=”left” background_image_as_pattern=”without_pattern”][vc_column width=”5/6″][vc_column_text css=””]Discover how NDC’s Lending Team can help turn your ambitions into achievements and support the growth of your small businesses. Join us to discuss NDC’s lending processes and offerings. These sessions are held on the first Thursday and third Wednesday of each month and are open to anyone interested in learning more. \nWhat You’ll Learn:  \n\nNDC’s Loan Application Process\nDocuments required to apply\nEligibility requirements\nOfferings through other NDC programs\nAnd more!\n\nRegister: https://ndc-mn.tfaforms.net/138[/vc_column_text][vc_empty_space height=”21px”][/vc_column][vc_column width=”1/6″][/vc_column][/vc_row]
URL:https://www.ndc-mn.org/event/loan-information-session-21/
LOCATION:Virtual
CATEGORIES:Events,Informational Session
ATTACH;FMTTYPE=image/png:https://www.ndc-mn.org/wp-content/uploads/2025/01/Screenshot-2025-01-27-at-2.21.35 PM.png
END:VEVENT
BEGIN:VEVENT
DTSTART;TZID=America/Chicago:20251205T123000
DTEND;TZID=America/Chicago:20251205T133000
DTSTAMP:20260420T042824
CREATED:20251117T173704Z
LAST-MODIFIED:20251117T174037Z
UID:3109-1764937800-1764941400@www.ndc-mn.org
SUMMARY:Plan It! Informational Session Spring 2026
DESCRIPTION:[vc_row css_animation=”” row_type=”row” use_row_as_full_screen_section=”no” type=”full_width” angled_section=”no” text_align=”left” background_image_as_pattern=”without_pattern”][vc_column width=”5/6″][vc_column_text]Interested in entrepreneurship? Launching or growing a business can feel overwhelming without having a clear plan. A solid business plan and realistic cash flow projections give business owners the foundation they need to build or expand their business. The Plan It! Informational Session is not just a presentation\, but an opportunity for aspiring entrepreneurs to learn more about the Plan It! program\, ask questions\, and get a feel for the support and resources available. It’s an opportunity to see if this program is right for you. \nRegister online >[/vc_column_text][vc_empty_space height=”21px”][/vc_column][vc_column width=”1/6″][/vc_column][/vc_row]
URL:https://www.ndc-mn.org/event/plan-it-informational-session-spring-2026/
LOCATION:Virtual
CATEGORIES:Informational Session
END:VEVENT
BEGIN:VEVENT
DTSTART;TZID=America/Chicago:20251209T120000
DTEND;TZID=America/Chicago:20251209T130000
DTSTAMP:20260420T042824
CREATED:20251113T193451Z
LAST-MODIFIED:20251114T051300Z
UID:3092-1765281600-1765285200@www.ndc-mn.org
SUMMARY:Empowering Self-Care and Business Growth with Brittany Clausen
DESCRIPTION:[vc_row css_animation=”” row_type=”row” use_row_as_full_screen_section=”no” type=”full_width” angled_section=”no” text_align=”left” background_image_as_pattern=”without_pattern”][vc_column width=”5/6″][vc_column_text css=””]Balancing well-being with high performance is possible—with intention. This closing session brings together the series’ core themes: mindfulness\, boundaries\, self-care\, and entrepreneurial growth. Participants will walk through a strategic self-assessment\, explore real tools for maintaining balance\, and leave with a personalized action plan for showing up powerfully in their work. \nLearning Objectives:  \n\nSynthesizing mindfulness\, resilience\, and boundary-setting\nThe role of self-care in sustainable business and leadership\nCreating routines that support emotional wellness and productivity\nMapping out next steps for personal and professional development\n\nRegister:  https://bit.ly/47Frlkd[/vc_column_text][vc_empty_space height=”21px”][/vc_column][vc_column width=”1/6″][/vc_column][/vc_row]
URL:https://www.ndc-mn.org/event/employee-vs-independent-contractor-with-fredrikson-and-byron-2/
LOCATION:Virtual
CATEGORIES:Events,Informational Session
END:VEVENT
BEGIN:VEVENT
DTSTART;TZID=America/Chicago:20251217T130000
DTEND;TZID=America/Chicago:20251217T140000
DTSTAMP:20260420T042824
CREATED:20250127T213727Z
LAST-MODIFIED:20250527T180823Z
UID:2836-1765976400-1765980000@www.ndc-mn.org
SUMMARY:Loan Information Session
DESCRIPTION:[vc_row css_animation=”” row_type=”row” use_row_as_full_screen_section=”no” type=”full_width” angled_section=”no” text_align=”left” background_image_as_pattern=”without_pattern”][vc_column width=”5/6″][vc_column_text css=””]Discover how NDC’s Lending Team can help turn your ambitions into achievements and support the growth of your small businesses. Join us to discuss NDC’s lending processes and offerings. These sessions are held on the first Thursday and third Wednesday of each month and are open to anyone interested in learning more. \nWhat You’ll Learn:  \n\nNDC’s Loan Application Process\nDocuments required to apply\nEligibility requirements\nOfferings through other NDC programs\nAnd more!\n\nRegister: https://ndc-mn.tfaforms.net/138[/vc_column_text][vc_empty_space height=”21px”][/vc_column][vc_column width=”1/6″][/vc_column][/vc_row]
URL:https://www.ndc-mn.org/event/loan-information-session-22/
LOCATION:Neighborhood Development Center\, 625 University Ave West\, Saint Paul\, MN\, 55104\, United States
CATEGORIES:Events,Informational Session
ATTACH;FMTTYPE=image/png:https://www.ndc-mn.org/wp-content/uploads/2025/01/Screenshot-2025-01-27-at-2.21.35 PM.png
END:VEVENT
BEGIN:VEVENT
DTSTART;TZID=America/Chicago:20251217T183000
DTEND;TZID=America/Chicago:20251217T193000
DTSTAMP:20260420T042824
CREATED:20251117T174528Z
LAST-MODIFIED:20251117T174528Z
UID:3112-1765996200-1765999800@www.ndc-mn.org
SUMMARY:Plan It! Informational Session Spring 2026
DESCRIPTION:[vc_row css_animation=”” row_type=”row” use_row_as_full_screen_section=”no” type=”full_width” angled_section=”no” text_align=”left” background_image_as_pattern=”without_pattern”][vc_column width=”5/6″][vc_column_text css=””]Interested in entrepreneurship? Launching or growing a business can feel overwhelming without having a clear plan. A solid business plan and realistic cash flow projections give business owners the foundation they need to build or expand their business. The Plan It! Informational Session is not just a presentation\, but an opportunity for aspiring entrepreneurs to learn more about the Plan It! program\, ask questions\, and get a feel for the support and resources available. It’s an opportunity to see if this program is right for you. \nRegister online >[/vc_column_text][vc_empty_space height=”21px”][/vc_column][vc_column width=”1/6″][/vc_column][/vc_row]
URL:https://www.ndc-mn.org/event/plan-it-informational-session-spring-2026-2/
LOCATION:Virtual
CATEGORIES:Informational Session
END:VEVENT
END:VCALENDAR