BEGIN:VCALENDAR
VERSION:2.0
PRODID:-//NDC - ECPv6.15.20//NONSGML v1.0//EN
CALSCALE:GREGORIAN
METHOD:PUBLISH
X-WR-CALNAME:NDC
X-ORIGINAL-URL:https://www.ndc-mn.org
X-WR-CALDESC:Events for NDC
REFRESH-INTERVAL;VALUE=DURATION:PT1H
X-Robots-Tag:noindex
X-PUBLISHED-TTL:PT1H
BEGIN:VTIMEZONE
TZID:America/Chicago
BEGIN:DAYLIGHT
TZOFFSETFROM:-0600
TZOFFSETTO:-0500
TZNAME:CDT
DTSTART:20240310T080000
END:DAYLIGHT
BEGIN:STANDARD
TZOFFSETFROM:-0500
TZOFFSETTO:-0600
TZNAME:CST
DTSTART:20241103T070000
END:STANDARD
BEGIN:DAYLIGHT
TZOFFSETFROM:-0600
TZOFFSETTO:-0500
TZNAME:CDT
DTSTART:20250309T080000
END:DAYLIGHT
BEGIN:STANDARD
TZOFFSETFROM:-0500
TZOFFSETTO:-0600
TZNAME:CST
DTSTART:20251102T070000
END:STANDARD
BEGIN:DAYLIGHT
TZOFFSETFROM:-0600
TZOFFSETTO:-0500
TZNAME:CDT
DTSTART:20260308T080000
END:DAYLIGHT
BEGIN:STANDARD
TZOFFSETFROM:-0500
TZOFFSETTO:-0600
TZNAME:CST
DTSTART:20261101T070000
END:STANDARD
END:VTIMEZONE
BEGIN:VEVENT
DTSTART;TZID=America/Chicago:20251022T113000
DTEND;TZID=America/Chicago:20251022T130000
DTSTAMP:20260422T054037
CREATED:20251002T141832Z
LAST-MODIFIED:20251002T141832Z
UID:3058-1761132600-1761138000@www.ndc-mn.org
SUMMARY:Trademark Essentials with Fredrikson and Byron
DESCRIPTION:[vc_row css_animation=”” row_type=”row” use_row_as_full_screen_section=”no” type=”full_width” angled_section=”no” text_align=”left” background_image_as_pattern=”without_pattern”][vc_column width=”5/6″][vc_column_text css=””] \nProtecting your company’s intellectual property (IP) is more crucial than ever in today’s fast-paced\, competitive business environment. Trademarks are essential to safeguarding your brand’s identity and avoiding consumer confusion in the marketplace. Business owners and entrepreneurs wishing to understand and manage the complexities of trademark law and lay a strong foundation for their IP protection strategy should attend this workshop. \nThis workshop will cover the following: \n\nThe principles of trademark law\, such as the distinctions between patents\, copyrights\, and trademarks.\nHow to conduct a comprehensive trademark search to prevent potential conflicts and infringement issues.\nThe trademark registration procedure’s application\, evaluation\, and potential opposition phases.\nTechniques for keeping up with and renewing trademark registrations to guarantee continued protection.\nThe significance of trademark surveillance and enforcement to stop unauthorized use and brand dilution.\nGuidelines for handling trademark litigation and disputes include negotiation\, mediation\, and other forms of alternative dispute resolution.\n\nAttendees will come out of the workshop with the knowledge and understanding necessary to safeguard their business’s intellectual property\, laying the groundwork for the success and longevity of their brand. Register today and take the first step towards securing your business’s most valuable asset—it’s brand identity. \nRegister: https://us06web.zoom.us/meeting/register/uOTt08OxSsKiP9deGHgLoA \n[/vc_column_text][vc_empty_space height=”21px”][/vc_column][vc_column width=”1/6″][/vc_column][/vc_row]
URL:https://www.ndc-mn.org/event/trademark-essentials-with-fredrikson-and-byron/
LOCATION:Virtual
CATEGORIES:Events,Informational Session
ATTACH;FMTTYPE=image/png:https://www.ndc-mn.org/wp-content/uploads/2025/02/tmp_6789_1-5-2023_104947_.png
END:VEVENT
BEGIN:VEVENT
DTSTART;TZID=America/Chicago:20251023T110000
DTEND;TZID=America/Chicago:20251023T130000
DTSTAMP:20260422T054037
CREATED:20250903T164440Z
LAST-MODIFIED:20250903T164440Z
UID:3038-1761217200-1761224400@www.ndc-mn.org
SUMMARY:NDC Partner Workshop: Tax Planning with Stearns Bank
DESCRIPTION:[vc_row css_animation=”” row_type=”row” use_row_as_full_screen_section=”no” type=”full_width” angled_section=”no” text_align=”left” background_image_as_pattern=”without_pattern”][vc_column width=”5/6″][vc_column_text css=””] \nJoin Neighborhood Development Center and Stearns Bank for a free virtual workshop to explore how to get and stay ready for tax season. Professionals will walk you through how to plan for filing taxes and all the best tips to do so. \nDon’t miss it—register now at this link.  \n[/vc_column_text][vc_empty_space height=”21px”][/vc_column][vc_column width=”1/6″][/vc_column][/vc_row]
URL:https://www.ndc-mn.org/event/ndc-partner-workshop-tax-planning-with-stearns-bank/
LOCATION:Virtual
CATEGORIES:Events,Informational Session
ATTACH;FMTTYPE=image/png:https://www.ndc-mn.org/wp-content/uploads/2025/02/StearnsBank_Wordmark_TransparentGrassroot.png
END:VEVENT
END:VCALENDAR