BEGIN:VCALENDAR
VERSION:2.0
PRODID:-//NDC - ECPv6.15.20//NONSGML v1.0//EN
CALSCALE:GREGORIAN
METHOD:PUBLISH
X-ORIGINAL-URL:https://www.ndc-mn.org
X-WR-CALDESC:Events for NDC
REFRESH-INTERVAL;VALUE=DURATION:PT1H
X-Robots-Tag:noindex
X-PUBLISHED-TTL:PT1H
BEGIN:VTIMEZONE
TZID:America/Chicago
BEGIN:DAYLIGHT
TZOFFSETFROM:-0600
TZOFFSETTO:-0500
TZNAME:CDT
DTSTART:20250309T080000
END:DAYLIGHT
BEGIN:STANDARD
TZOFFSETFROM:-0500
TZOFFSETTO:-0600
TZNAME:CST
DTSTART:20251102T070000
END:STANDARD
BEGIN:DAYLIGHT
TZOFFSETFROM:-0600
TZOFFSETTO:-0500
TZNAME:CDT
DTSTART:20260308T080000
END:DAYLIGHT
BEGIN:STANDARD
TZOFFSETFROM:-0500
TZOFFSETTO:-0600
TZNAME:CST
DTSTART:20261101T070000
END:STANDARD
BEGIN:DAYLIGHT
TZOFFSETFROM:-0600
TZOFFSETTO:-0500
TZNAME:CDT
DTSTART:20270314T080000
END:DAYLIGHT
BEGIN:STANDARD
TZOFFSETFROM:-0500
TZOFFSETTO:-0600
TZNAME:CST
DTSTART:20271107T070000
END:STANDARD
END:VTIMEZONE
BEGIN:VEVENT
DTSTART;TZID=America/Chicago:20260617T130000
DTEND;TZID=America/Chicago:20260617T140000
DTSTAMP:20260420T043535
CREATED:20260205T200537Z
LAST-MODIFIED:20260205T200537Z
UID:3177-1781701200-1781704800@www.ndc-mn.org
SUMMARY:Loan Information Session
DESCRIPTION:[vc_row css_animation=”” row_type=”row” use_row_as_full_screen_section=”no” type=”full_width” angled_section=”no” text_align=”left” background_image_as_pattern=”without_pattern”][vc_column width=”5/6″][vc_column_text css=””]Discover how NDC’s Lending Team can help turn your ambitions into achievements and support the growth of your small businesses. Join us to discuss NDC’s lending processes and offerings. These sessions are held on the first Thursday and third Wednesday of each month and are open to anyone interested in learning more. \nWhat You’ll Learn:  \n\nNDC’s Loan Application Process\nDocuments required to apply\nEligibility requirements\nOfferings through other NDC programs\nAnd more!\n\nRegister: https://ndc-mn.tfaforms.net/138[/vc_column_text][vc_empty_space height=”21px”][/vc_column][vc_column width=”1/6″][/vc_column][/vc_row]
URL:https://www.ndc-mn.org/event/loan-information-session-9/
LOCATION:Virtual
CATEGORIES:Events,Informational Session
ATTACH;FMTTYPE=image/png:https://www.ndc-mn.org/wp-content/uploads/2025/01/Screenshot-2025-01-27-at-2.21.35 PM.png
END:VEVENT
BEGIN:VEVENT
DTSTART;TZID=America/Chicago:20260715T130000
DTEND;TZID=America/Chicago:20260715T140000
DTSTAMP:20260420T043535
CREATED:20260205T200555Z
LAST-MODIFIED:20260205T200555Z
UID:3176-1784120400-1784124000@www.ndc-mn.org
SUMMARY:Loan Information Session
DESCRIPTION:[vc_row css_animation=”” row_type=”row” use_row_as_full_screen_section=”no” type=”full_width” angled_section=”no” text_align=”left” background_image_as_pattern=”without_pattern”][vc_column width=”5/6″][vc_column_text css=””]Discover how NDC’s Lending Team can help turn your ambitions into achievements and support the growth of your small businesses. Join us to discuss NDC’s lending processes and offerings. These sessions are held on the first Thursday and third Wednesday of each month and are open to anyone interested in learning more. \nWhat You’ll Learn:  \n\nNDC’s Loan Application Process\nDocuments required to apply\nEligibility requirements\nOfferings through other NDC programs\nAnd more!\n\nRegister: https://ndc-mn.tfaforms.net/138[/vc_column_text][vc_empty_space height=”21px”][/vc_column][vc_column width=”1/6″][/vc_column][/vc_row]
URL:https://www.ndc-mn.org/event/loan-information-session-10/
LOCATION:Virtual
CATEGORIES:Events,Informational Session
ATTACH;FMTTYPE=image/png:https://www.ndc-mn.org/wp-content/uploads/2025/01/Screenshot-2025-01-27-at-2.21.35 PM.png
END:VEVENT
BEGIN:VEVENT
DTSTART;TZID=America/Chicago:20260807T130000
DTEND;TZID=America/Chicago:20260807T140000
DTSTAMP:20260420T043535
CREATED:20260205T200606Z
LAST-MODIFIED:20260205T200606Z
UID:3175-1786107600-1786111200@www.ndc-mn.org
SUMMARY:Loan Information Session
DESCRIPTION:[vc_row css_animation=”” row_type=”row” use_row_as_full_screen_section=”no” type=”full_width” angled_section=”no” text_align=”left” background_image_as_pattern=”without_pattern”][vc_column width=”5/6″][vc_column_text css=””]Discover how NDC’s Lending Team can help turn your ambitions into achievements and support the growth of your small businesses. Join us to discuss NDC’s lending processes and offerings. These sessions are held on the first Thursday and third Wednesday of each month and are open to anyone interested in learning more. \nWhat You’ll Learn:  \n\nNDC’s Loan Application Process\nDocuments required to apply\nEligibility requirements\nOfferings through other NDC programs\nAnd more!\n\nRegister: https://ndc-mn.tfaforms.net/138[/vc_column_text][vc_empty_space height=”21px”][/vc_column][vc_column width=”1/6″][/vc_column][/vc_row]
URL:https://www.ndc-mn.org/event/loan-information-session-11/
LOCATION:Virtual
CATEGORIES:Events,Informational Session
ATTACH;FMTTYPE=image/png:https://www.ndc-mn.org/wp-content/uploads/2025/01/Screenshot-2025-01-27-at-2.21.35 PM.png
END:VEVENT
BEGIN:VEVENT
DTSTART;TZID=America/Chicago:20260820T130000
DTEND;TZID=America/Chicago:20260820T140000
DTSTAMP:20260420T043535
CREATED:20260205T200613Z
LAST-MODIFIED:20260205T200613Z
UID:3174-1787230800-1787234400@www.ndc-mn.org
SUMMARY:Loan Information Session
DESCRIPTION:[vc_row css_animation=”” row_type=”row” use_row_as_full_screen_section=”no” type=”full_width” angled_section=”no” text_align=”left” background_image_as_pattern=”without_pattern”][vc_column width=”5/6″][vc_column_text css=””]Discover how NDC’s Lending Team can help turn your ambitions into achievements and support the growth of your small businesses. Join us to discuss NDC’s lending processes and offerings. These sessions are held on the first Thursday and third Wednesday of each month and are open to anyone interested in learning more. \nWhat You’ll Learn:  \n\nNDC’s Loan Application Process\nDocuments required to apply\nEligibility requirements\nOfferings through other NDC programs\nAnd more!\n\nRegister: https://ndc-mn.tfaforms.net/138[/vc_column_text][vc_empty_space height=”21px”][/vc_column][vc_column width=”1/6″][/vc_column][/vc_row]
URL:https://www.ndc-mn.org/event/loan-information-session-12/
LOCATION:Virtual
CATEGORIES:Events,Informational Session
ATTACH;FMTTYPE=image/png:https://www.ndc-mn.org/wp-content/uploads/2025/01/Screenshot-2025-01-27-at-2.21.35 PM.png
END:VEVENT
BEGIN:VEVENT
DTSTART;TZID=America/Chicago:20260903T130000
DTEND;TZID=America/Chicago:20260903T140000
DTSTAMP:20260420T043535
CREATED:20260205T200619Z
LAST-MODIFIED:20260205T200619Z
UID:3173-1788440400-1788444000@www.ndc-mn.org
SUMMARY:Loan Information Session
DESCRIPTION:[vc_row css_animation=”” row_type=”row” use_row_as_full_screen_section=”no” type=”full_width” angled_section=”no” text_align=”left” background_image_as_pattern=”without_pattern”][vc_column width=”5/6″][vc_column_text css=””]Discover how NDC’s Lending Team can help turn your ambitions into achievements and support the growth of your small businesses. Join us to discuss NDC’s lending processes and offerings. These sessions are held on the first Thursday and third Wednesday of each month and are open to anyone interested in learning more. \nWhat You’ll Learn:  \n\nNDC’s Loan Application Process\nDocuments required to apply\nEligibility requirements\nOfferings through other NDC programs\nAnd more!\n\nRegister: https://ndc-mn.tfaforms.net/138[/vc_column_text][vc_empty_space height=”21px”][/vc_column][vc_column width=”1/6″][/vc_column][/vc_row]
URL:https://www.ndc-mn.org/event/loan-information-session-23/
LOCATION:Virtual
CATEGORIES:Events,Informational Session
ATTACH;FMTTYPE=image/png:https://www.ndc-mn.org/wp-content/uploads/2025/01/Screenshot-2025-01-27-at-2.21.35 PM.png
END:VEVENT
BEGIN:VEVENT
DTSTART;TZID=America/Chicago:20260916T130000
DTEND;TZID=America/Chicago:20260916T140000
DTSTAMP:20260420T043535
CREATED:20260205T200633Z
LAST-MODIFIED:20260205T200633Z
UID:3172-1789563600-1789567200@www.ndc-mn.org
SUMMARY:Loan Information Session
DESCRIPTION:[vc_row css_animation=”” row_type=”row” use_row_as_full_screen_section=”no” type=”full_width” angled_section=”no” text_align=”left” background_image_as_pattern=”without_pattern”][vc_column width=”5/6″][vc_column_text css=””]Discover how NDC’s Lending Team can help turn your ambitions into achievements and support the growth of your small businesses. Join us to discuss NDC’s lending processes and offerings. These sessions are held on the first Thursday and third Wednesday of each month and are open to anyone interested in learning more. \nWhat You’ll Learn:  \n\nNDC’s Loan Application Process\nDocuments required to apply\nEligibility requirements\nOfferings through other NDC programs\nAnd more!\n\nRegister: https://ndc-mn.tfaforms.net/138[/vc_column_text][vc_empty_space height=”21px”][/vc_column][vc_column width=”1/6″][/vc_column][/vc_row]
URL:https://www.ndc-mn.org/event/loan-information-session-24/
LOCATION:Virtual
CATEGORIES:Events,Informational Session
ATTACH;FMTTYPE=image/png:https://www.ndc-mn.org/wp-content/uploads/2025/01/Screenshot-2025-01-27-at-2.21.35 PM.png
END:VEVENT
BEGIN:VEVENT
DTSTART;TZID=America/Chicago:20261001T130000
DTEND;TZID=America/Chicago:20261001T140000
DTSTAMP:20260420T043535
CREATED:20260205T200642Z
LAST-MODIFIED:20260205T200642Z
UID:3171-1790859600-1790863200@www.ndc-mn.org
SUMMARY:Loan Information Session
DESCRIPTION:[vc_row css_animation=”” row_type=”row” use_row_as_full_screen_section=”no” type=”full_width” angled_section=”no” text_align=”left” background_image_as_pattern=”without_pattern”][vc_column width=”5/6″][vc_column_text css=””]Discover how NDC’s Lending Team can help turn your ambitions into achievements and support the growth of your small businesses. Join us to discuss NDC’s lending processes and offerings. These sessions are held on the first Thursday and third Wednesday of each month and are open to anyone interested in learning more. \nWhat You’ll Learn:  \n\nNDC’s Loan Application Process\nDocuments required to apply\nEligibility requirements\nOfferings through other NDC programs\nAnd more!\n\nRegister: https://ndc-mn.tfaforms.net/138[/vc_column_text][vc_empty_space height=”21px”][/vc_column][vc_column width=”1/6″][/vc_column][/vc_row]
URL:https://www.ndc-mn.org/event/loan-information-session-25/
LOCATION:Virtual
CATEGORIES:Events,Informational Session
ATTACH;FMTTYPE=image/png:https://www.ndc-mn.org/wp-content/uploads/2025/01/Screenshot-2025-01-27-at-2.21.35 PM.png
END:VEVENT
BEGIN:VEVENT
DTSTART;TZID=America/Chicago:20261014T130000
DTEND;TZID=America/Chicago:20261014T140000
DTSTAMP:20260420T043535
CREATED:20260205T200653Z
LAST-MODIFIED:20260205T200653Z
UID:3170-1791982800-1791986400@www.ndc-mn.org
SUMMARY:Loan Information Session
DESCRIPTION:[vc_row css_animation=”” row_type=”row” use_row_as_full_screen_section=”no” type=”full_width” angled_section=”no” text_align=”left” background_image_as_pattern=”without_pattern”][vc_column width=”5/6″][vc_column_text css=””]Discover how NDC’s Lending Team can help turn your ambitions into achievements and support the growth of your small businesses. Join us to discuss NDC’s lending processes and offerings. These sessions are held on the first Thursday and third Wednesday of each month and are open to anyone interested in learning more. \nWhat You’ll Learn:  \n\nNDC’s Loan Application Process\nDocuments required to apply\nEligibility requirements\nOfferings through other NDC programs\nAnd more!\n\nRegister: https://ndc-mn.tfaforms.net/138[/vc_column_text][vc_empty_space height=”21px”][/vc_column][vc_column width=”1/6″][/vc_column][/vc_row]
URL:https://www.ndc-mn.org/event/loan-information-session-26/
LOCATION:Virtual
CATEGORIES:Events,Informational Session
ATTACH;FMTTYPE=image/png:https://www.ndc-mn.org/wp-content/uploads/2025/01/Screenshot-2025-01-27-at-2.21.35 PM.png
END:VEVENT
BEGIN:VEVENT
DTSTART;TZID=America/Chicago:20261105T130000
DTEND;TZID=America/Chicago:20261105T140000
DTSTAMP:20260420T043535
CREATED:20260205T200702Z
LAST-MODIFIED:20260205T200702Z
UID:3169-1793883600-1793887200@www.ndc-mn.org
SUMMARY:Loan Information Session
DESCRIPTION:[vc_row css_animation=”” row_type=”row” use_row_as_full_screen_section=”no” type=”full_width” angled_section=”no” text_align=”left” background_image_as_pattern=”without_pattern”][vc_column width=”5/6″][vc_column_text css=””]Discover how NDC’s Lending Team can help turn your ambitions into achievements and support the growth of your small businesses. Join us to discuss NDC’s lending processes and offerings. These sessions are held on the first Thursday and third Wednesday of each month and are open to anyone interested in learning more. \nWhat You’ll Learn:  \n\nNDC’s Loan Application Process\nDocuments required to apply\nEligibility requirements\nOfferings through other NDC programs\nAnd more!\n\nRegister: https://ndc-mn.tfaforms.net/138[/vc_column_text][vc_empty_space height=”21px”][/vc_column][vc_column width=”1/6″][/vc_column][/vc_row]
URL:https://www.ndc-mn.org/event/loan-information-session-27/
LOCATION:Virtual
CATEGORIES:Events,Informational Session
ATTACH;FMTTYPE=image/png:https://www.ndc-mn.org/wp-content/uploads/2025/01/Screenshot-2025-01-27-at-2.21.35 PM.png
END:VEVENT
BEGIN:VEVENT
DTSTART;TZID=America/Chicago:20261203T130000
DTEND;TZID=America/Chicago:20261203T140000
DTSTAMP:20260420T043535
CREATED:20260205T200711Z
LAST-MODIFIED:20260205T200711Z
UID:3168-1796302800-1796306400@www.ndc-mn.org
SUMMARY:Loan Information Session
DESCRIPTION:[vc_row css_animation=”” row_type=”row” use_row_as_full_screen_section=”no” type=”full_width” angled_section=”no” text_align=”left” background_image_as_pattern=”without_pattern”][vc_column width=”5/6″][vc_column_text css=””]Discover how NDC’s Lending Team can help turn your ambitions into achievements and support the growth of your small businesses. Join us to discuss NDC’s lending processes and offerings. These sessions are held on the first Thursday and third Wednesday of each month and are open to anyone interested in learning more. \nWhat You’ll Learn:  \n\nNDC’s Loan Application Process\nDocuments required to apply\nEligibility requirements\nOfferings through other NDC programs\nAnd more!\n\nRegister: https://ndc-mn.tfaforms.net/138[/vc_column_text][vc_empty_space height=”21px”][/vc_column][vc_column width=”1/6″][/vc_column][/vc_row]
URL:https://www.ndc-mn.org/event/loan-information-session-28/
LOCATION:Virtual
CATEGORIES:Events,Informational Session
ATTACH;FMTTYPE=image/png:https://www.ndc-mn.org/wp-content/uploads/2025/01/Screenshot-2025-01-27-at-2.21.35 PM.png
END:VEVENT
END:VCALENDAR